BEGIN:VCALENDAR
VERSION:2.0
PRODID:-//ChamberMaster//Event Calendar 2.0//EN
METHOD:PUBLISH
X-PUBLISHED-TTL:P1H
REFRESH-INTERVAL:P1H
CALSCALE:GREGORIAN
BEGIN:VTIMEZONE
TZID:America/New_York
BEGIN:DAYLIGHT
RRULE:FREQ=YEARLY;BYMONTH=3;BYDAY=2SU
DTSTART:20070101T000000
TZOFFSETFROM:-0500
TZOFFSETTO:-0400
TZNAME:Eastern Daylight Time
END:DAYLIGHT
BEGIN:STANDARD
RRULE:FREQ=YEARLY;BYMONTH=11;BYDAY=1SU
DTSTART:20070101T000000
TZOFFSETFROM:-0400
TZOFFSETTO:-0500
TZNAME:Eastern Standard Time
END:STANDARD
END:VTIMEZONE
BEGIN:VEVENT
DTSTART;TZID=America/New_York:20260514T170000
DTEND;TZID=America/New_York:20260514T180000
X-MICROSOFT-CDO-ALLDAYEVENT:FALSE
SUMMARY:Your Future\, Your Finances\, and Your Medicare
DESCRIPTION:Discover tips that could help secure your financial and medical future. Register Here!
X-ALT-DESC;FMTTYPE=text/html:<!DOCTYPE html><html><head><title></title></head><body aria-disabled="false" spellcheck="false"><p>Discover tips that could help secure your financial and medical future.&nbsp\;<a fr-original-style="" href="https://pmlib.libnet.info/event/15394172" style="user-select: auto\;">Register Here!</a></p></body></html>
LOCATION:2151 Horseblock Road Medford NY 11763
UID:e.3854.1451469
SEQUENCE:3
DTSTAMP:20260426T012859Z
URL:https://business.patchogue.com/eventcalendar/Details/your-future-your-finances-and-your-medicare-1719191?sourceTypeId=Hub
END:VEVENT
END:VCALENDAR
