BEGIN:VCALENDAR
VERSION:2.0
PRODID:-//ChamberMaster//Event Calendar 2.0//EN
METHOD:PUBLISH
X-PUBLISHED-TTL:P1H
REFRESH-INTERVAL:P1H
CALSCALE:GREGORIAN
BEGIN:VTIMEZONE
TZID:America/New_York
BEGIN:DAYLIGHT
RRULE:FREQ=YEARLY;BYMONTH=3;BYDAY=2SU
DTSTART:20070101T000000
TZOFFSETFROM:-0500
TZOFFSETTO:-0400
TZNAME:Eastern Daylight Time
END:DAYLIGHT
BEGIN:STANDARD
RRULE:FREQ=YEARLY;BYMONTH=11;BYDAY=1SU
DTSTART:20070101T000000
TZOFFSETFROM:-0400
TZOFFSETTO:-0500
TZNAME:Eastern Standard Time
END:STANDARD
END:VTIMEZONE
BEGIN:VEVENT
DTSTART;TZID=America/New_York:20260512T070000
DTEND;TZID=America/New_York:20260512T083000
X-MICROSOFT-CDO-ALLDAYEVENT:FALSE
SUMMARY:Yin Yoga
DESCRIPTION:A slower paced class with a meditative approach for all levels involving variations of seated and supine poses held for 3-5 minutes. Attend in person. Register Here!
X-ALT-DESC;FMTTYPE=text/html:<!DOCTYPE html><html><head><title></title></head><body aria-disabled="false" spellcheck="false"><p>A slower paced class with a meditative approach for all levels involving variations of seated and supine poses held for 3-5 minutes. Attend in person.&nbsp\;<a fr-original-style="" href="https://pmlib.libnet.info/event/16023578" style="user-select: auto\;">Register Here!</a></p></body></html>
LOCATION:160 W Main St Patchogue NY 11772
UID:e.3854.1451466
SEQUENCE:3
DTSTAMP:20260426T012525Z
URL:https://business.patchogue.com/eventcalendar/Details/yin-yoga-1719188?sourceTypeId=Hub
END:VEVENT
END:VCALENDAR
