BEGIN:VCALENDAR
VERSION:2.0
PRODID:-//ChamberMaster//Event Calendar 2.0//EN
METHOD:PUBLISH
X-PUBLISHED-TTL:P1H
REFRESH-INTERVAL:P1H
CALSCALE:GREGORIAN
BEGIN:VTIMEZONE
TZID:America/New_York
BEGIN:DAYLIGHT
RRULE:FREQ=YEARLY;BYMONTH=3;BYDAY=2SU
DTSTART:20070101T000000
TZOFFSETFROM:-0500
TZOFFSETTO:-0400
TZNAME:Eastern Daylight Time
END:DAYLIGHT
BEGIN:STANDARD
RRULE:FREQ=YEARLY;BYMONTH=11;BYDAY=1SU
DTSTART:20070101T000000
TZOFFSETFROM:-0400
TZOFFSETTO:-0500
TZNAME:Eastern Standard Time
END:STANDARD
END:VTIMEZONE
BEGIN:VEVENT
DTSTART;TZID=America/New_York:20260511T183000
DTEND;TZID=America/New_York:20260511T193000
X-MICROSOFT-CDO-ALLDAYEVENT:FALSE
SUMMARY:The Bald & The Beautiful - Learn About the Bald Eagle
DESCRIPTION:In recognition of the nation's upcoming 250th birthday\, this talk celebrates the remarkable comeback of the bald eagle from the brink of extinction to a powerful national symbol. Explore their natural history\, where they can be seen locally\, and the conservation efforts that made their recovery possible. Register Here!
X-ALT-DESC;FMTTYPE=text/html:<!DOCTYPE html><html><head><title></title></head><body aria-disabled="false" spellcheck="false"><p>In recognition of the nation&#39\;s upcoming 250th birthday\, this talk celebrates the remarkable comeback of the bald eagle&mdash\;from the brink of extinction to a powerful national symbol. Explore their natural history\, where they can be seen locally\, and the conservation efforts that made their recovery possible.&nbsp\;<a fr-original-style="" href="https://pmlib.libnet.info/event/15484569" style="user-select: auto\;">Register Here!</a></p></body></html>
LOCATION:2151 Horseblock Road Medford NY 11763
UID:e.3854.1451463
SEQUENCE:3
DTSTAMP:20260426T013221Z
URL:https://business.patchogue.com/eventcalendar/Details/the-bald-the-beautiful-learn-about-the-bald-eagle-1719185?sourceTypeId=Hub
END:VEVENT
END:VCALENDAR
