BEGIN:VCALENDAR
VERSION:2.0
PRODID:-//ChamberMaster//Event Calendar 2.0//EN
METHOD:PUBLISH
X-PUBLISHED-TTL:P1H
REFRESH-INTERVAL:P1H
CALSCALE:GREGORIAN
BEGIN:VTIMEZONE
TZID:America/New_York
BEGIN:DAYLIGHT
RRULE:FREQ=YEARLY;BYMONTH=3;BYDAY=2SU
DTSTART:20070101T000000
TZOFFSETFROM:-0500
TZOFFSETTO:-0400
TZNAME:Eastern Daylight Time
END:DAYLIGHT
BEGIN:STANDARD
RRULE:FREQ=YEARLY;BYMONTH=11;BYDAY=1SU
DTSTART:20070101T000000
TZOFFSETFROM:-0400
TZOFFSETTO:-0500
TZNAME:Eastern Standard Time
END:STANDARD
END:VTIMEZONE
BEGIN:VEVENT
DTSTART;TZID=America/New_York:20260521T130000
DTEND;TZID=America/New_York:20260521T140000
X-MICROSOFT-CDO-ALLDAYEVENT:FALSE
SUMMARY:Tai Chi
DESCRIPTION:Come learn Part 1 of the Sun style Tai Chi. Tai Chi has many health benefits such as reduced pain in arthritic joints and improved balance. Improved balance can help reduce falling. Tai Chi moves slowly\, smoothly\, and has a steady pace. It can be considered a moving meditation. Register Here!
X-ALT-DESC;FMTTYPE=text/html:<!DOCTYPE html><html><head><title></title></head><body aria-disabled="false" spellcheck="false"><p>Come learn Part 1 of the Sun style Tai Chi. Tai Chi has many health benefits such as reduced pain in arthritic joints and improved balance. Improved balance can help reduce falling. Tai Chi moves slowly\, smoothly\, and has a steady pace. It can be considered a moving meditation.&nbsp\;<a fr-original-style="" href="https://pmlib.libnet.info/event/15998259" style="user-select: auto\;">Register Here!</a></p></body></html>
LOCATION:54-60 East Main St. Patchogue NY 11772
UID:e.3854.1451484
SEQUENCE:3
DTSTAMP:20260426T012414Z
URL:https://business.patchogue.com/eventcalendar/Details/tai-chi-1719206?sourceTypeId=Hub
END:VEVENT
END:VCALENDAR
