BEGIN:VCALENDAR
VERSION:2.0
PRODID:-//ChamberMaster//Event Calendar 2.0//EN
METHOD:PUBLISH
X-PUBLISHED-TTL:P1H
REFRESH-INTERVAL:P1H
CALSCALE:GREGORIAN
BEGIN:VTIMEZONE
TZID:America/New_York
BEGIN:DAYLIGHT
RRULE:FREQ=YEARLY;BYMONTH=3;BYDAY=2SU
DTSTART:20070101T000000
TZOFFSETFROM:-0500
TZOFFSETTO:-0400
TZNAME:Eastern Daylight Time
END:DAYLIGHT
BEGIN:STANDARD
RRULE:FREQ=YEARLY;BYMONTH=11;BYDAY=1SU
DTSTART:20070101T000000
TZOFFSETFROM:-0400
TZOFFSETTO:-0500
TZNAME:Eastern Standard Time
END:STANDARD
END:VTIMEZONE
BEGIN:VEVENT
DTSTART;TZID=America/New_York:20260531T140000
DTEND;TZID=America/New_York:20260531T160000
X-MICROSOFT-CDO-ALLDAYEVENT:FALSE
SUMMARY:Register From Diary to Gravesite: Discovering Elizabeth Oakes Smith
DESCRIPTION:Timothy Scherman\, the President of the Elizabeth Oakes Smith Society\, will introduce you to Elizabeth Oakes Smith\, one of the most well-recognized\, widely published and eventually even notorious figures of the 19th century. Enjoy live readings derived from her diary\, and then cross the street to the Lakeview Cemetery for a look at Oakes Smith's gravesite.
X-ALT-DESC;FMTTYPE=text/html:Timothy Scherman\, the President of the Elizabeth Oakes Smith Society\, will introduce you to Elizabeth Oakes Smith\, one of the most well-recognized\, widely published and eventually even notorious figures of the 19th century. Enjoy live readings derived from her diary\, and then cross the street to the Lakeview Cemetery for a look at Oakes Smith's gravesite.
LOCATION:160 W Main St Patchogue NY 11772
UID:e.3854.1451500
SEQUENCE:3
DTSTAMP:20260426T012941Z
URL:https://business.patchogue.com/eventcalendar/Details/register-from-diary-to-gravesite-discovering-elizabeth-oakes-smith-1719222?sourceTypeId=Hub
END:VEVENT
END:VCALENDAR
