BEGIN:VCALENDAR
VERSION:2.0
PRODID:-//ChamberMaster//Event Calendar 2.0//EN
METHOD:PUBLISH
X-PUBLISHED-TTL:P1H
REFRESH-INTERVAL:P1H
CALSCALE:GREGORIAN
BEGIN:VTIMEZONE
TZID:America/New_York
BEGIN:DAYLIGHT
RRULE:FREQ=YEARLY;BYMONTH=3;BYDAY=2SU
DTSTART:20070101T000000
TZOFFSETFROM:-0500
TZOFFSETTO:-0400
TZNAME:Eastern Daylight Time
END:DAYLIGHT
BEGIN:STANDARD
RRULE:FREQ=YEARLY;BYMONTH=11;BYDAY=1SU
DTSTART:20070101T000000
TZOFFSETFROM:-0400
TZOFFSETTO:-0500
TZNAME:Eastern Standard Time
END:STANDARD
END:VTIMEZONE
BEGIN:VEVENT
DTSTART;TZID=America/New_York:20260521T183000
DTEND;TZID=America/New_York:20260521T193000
X-MICROSOFT-CDO-ALLDAYEVENT:FALSE
SUMMARY:Learning to Look - Post-Impressionism
DESCRIPTION:In person at 20 Terry Street\, Patchogue or on ZOOM Meeting ID: 880 1524 8901 | Passcode: 419010 Register Here!
X-ALT-DESC;FMTTYPE=text/html:<!DOCTYPE html><html><head><title></title></head><body aria-disabled="false" spellcheck="false"><p>In person at 20 Terry Street\, Patchogue or on ZOOM Meeting ID: 880 1524 8901 | Passcode: 419010&nbsp\;<a fr-original-style="" href="https://pmlib.libnet.info/event/16023761" style="user-select: auto\;">Register Here!</a></p></body></html>
LOCATION:20 Terry Street\, Suite 116 Patchogue NY 11772
UID:e.3854.1451489
SEQUENCE:3
DTSTAMP:20260426T012307Z
URL:https://business.patchogue.com/eventcalendar/Details/learning-to-look-post-impressionism-1719211?sourceTypeId=Hub
END:VEVENT
END:VCALENDAR
