BEGIN:VCALENDAR
VERSION:2.0
PRODID:-//ChamberMaster//Event Calendar 2.0//EN
METHOD:PUBLISH
X-PUBLISHED-TTL:P1H
REFRESH-INTERVAL:P1H
CALSCALE:GREGORIAN
BEGIN:VTIMEZONE
TZID:America/New_York
BEGIN:DAYLIGHT
RRULE:FREQ=YEARLY;BYMONTH=3;BYDAY=2SU
DTSTART:20070101T000000
TZOFFSETFROM:-0500
TZOFFSETTO:-0400
TZNAME:Eastern Daylight Time
END:DAYLIGHT
BEGIN:STANDARD
RRULE:FREQ=YEARLY;BYMONTH=11;BYDAY=1SU
DTSTART:20070101T000000
TZOFFSETFROM:-0400
TZOFFSETTO:-0500
TZNAME:Eastern Standard Time
END:STANDARD
END:VTIMEZONE
BEGIN:VEVENT
DTSTART;TZID=America/New_York:20260509T150000
DTEND;TZID=America/New_York:20260509T163000
X-MICROSOFT-CDO-ALLDAYEVENT:FALSE
SUMMARY:Drums of Noto Hanto Performance
DESCRIPTION:For families with children of all ages. RyuShukan Japanese Arts Center presents: "The Drums of Noto Hanto"\, an interactive\, family friendly story where children from the audience can participate in telling the story of how villagers used masks and Taiko drums to defend their town. This program will be held at the Medford Branch. Register Here!
X-ALT-DESC;FMTTYPE=text/html:<!DOCTYPE html><html><head><title></title></head><body aria-disabled="false" spellcheck="false"><p>For families with children of all ages. RyuShukan Japanese Arts Center presents: &quot\;The Drums of Noto Hanto&quot\;\, an interactive\, family friendly story where children from the audience can participate in telling the story of how villagers used masks and Taiko drums to defend their town. This program will be held at the Medford Branch.&nbsp\;<a fr-original-style="" href="https://pmlib.libnet.info/event/16164140" style="user-select: auto\;">Register Here!</a></p></body></html>
LOCATION:2151 Horseblock Road Medford NY 11763
UID:e.3854.1451462
SEQUENCE:3
DTSTAMP:20260426T012858Z
URL:https://business.patchogue.com/eventcalendar/Details/drums-of-noto-hanto-performance-1719184?sourceTypeId=Hub
END:VEVENT
END:VCALENDAR
