BEGIN:VCALENDAR
VERSION:2.0
PRODID:-//ChamberMaster//Event Calendar 2.0//EN
METHOD:PUBLISH
X-PUBLISHED-TTL:P1H
REFRESH-INTERVAL:P1H
CALSCALE:GREGORIAN
BEGIN:VTIMEZONE
TZID:America/New_York
BEGIN:DAYLIGHT
RRULE:FREQ=YEARLY;BYMONTH=3;BYDAY=2SU
DTSTART:20070101T000000
TZOFFSETFROM:-0500
TZOFFSETTO:-0400
TZNAME:Eastern Daylight Time
END:DAYLIGHT
BEGIN:STANDARD
RRULE:FREQ=YEARLY;BYMONTH=11;BYDAY=1SU
DTSTART:20070101T000000
TZOFFSETFROM:-0400
TZOFFSETTO:-0500
TZNAME:Eastern Standard Time
END:STANDARD
END:VTIMEZONE
BEGIN:VEVENT
DTSTART;TZID=America/New_York:20260528T140000
DTEND;TZID=America/New_York:20260528T190000
X-MICROSOFT-CDO-ALLDAYEVENT:FALSE
SUMMARY:Drop-in: Sublimation Pet Bandana
DESCRIPTION:All ages. Create a unique design on the computer\, print it onto sublimation paper\, and transfer it onto a stylish bandana for your pet. One per patron while supplies last. Young children may need adult assistance.
X-ALT-DESC;FMTTYPE=text/html:All ages. Create a unique design on the computer\, print it onto sublimation paper\, and transfer it onto a stylish bandana for your pet. One per patron while supplies last. Young children may need adult assistance.
LOCATION:2151 Horseblock Road Medford NY 11763
UID:e.3854.1451495
SEQUENCE:3
DTSTAMP:20260426T012859Z
URL:https://business.patchogue.com/eventcalendar/Details/drop-in-sublimation-pet-bandana-1719217?sourceTypeId=Hub
END:VEVENT
END:VCALENDAR
