BEGIN:VCALENDAR
VERSION:2.0
PRODID:-//ChamberMaster//Event Calendar 2.0//EN
METHOD:PUBLISH
X-PUBLISHED-TTL:P1H
REFRESH-INTERVAL:P1H
CALSCALE:GREGORIAN
BEGIN:VTIMEZONE
TZID:America/New_York
BEGIN:DAYLIGHT
RRULE:FREQ=YEARLY;BYMONTH=3;BYDAY=2SU
DTSTART:20070101T000000
TZOFFSETFROM:-0500
TZOFFSETTO:-0400
TZNAME:Eastern Daylight Time
END:DAYLIGHT
BEGIN:STANDARD
RRULE:FREQ=YEARLY;BYMONTH=11;BYDAY=1SU
DTSTART:20070101T000000
TZOFFSETFROM:-0400
TZOFFSETTO:-0500
TZNAME:Eastern Standard Time
END:STANDARD
END:VTIMEZONE
BEGIN:VEVENT
DTSTART;TZID=America/New_York:20260528T150000
DTEND;TZID=America/New_York:20260528T180000
X-MICROSOFT-CDO-ALLDAYEVENT:FALSE
SUMMARY:Community Legal Help Project
DESCRIPTION:The Community Legal Help Project will have volunteer attorneys giving free legal information to Suffolk County residents ONLY. Attorney will be available to help with matters related to Family (Child Support\, Visitation\, Custody)\, Matrimonial\, Limited Criminal law (no post convictions)\, Immigration\, Landlord/Tenant. Appointments preferred\; walk-ins welcome. Call 631-822-3272 for an appointment.
X-ALT-DESC;FMTTYPE=text/html:The Community Legal Help Project will have volunteer attorneys giving free legal information to Suffolk County residents ONLY. Attorney will be available to help with matters related to Family (Child Support\, Visitation\, Custody)\, Matrimonial\, Limited Criminal law (no post convictions)\, Immigration\, Landlord/Tenant. Appointments preferred\; walk-ins welcome. Call 631-822-3272 for an appointment.
LOCATION:54-60 East Main St. Patchogue NY 11772
UID:e.3854.1451496
SEQUENCE:3
DTSTAMP:20260426T012734Z
URL:https://business.patchogue.com/eventcalendar/Details/community-legal-help-project-1719218?sourceTypeId=Hub
END:VEVENT
END:VCALENDAR
