BEGIN:VCALENDAR
VERSION:2.0
PRODID:-//ChamberMaster//Event Calendar 2.0//EN
METHOD:PUBLISH
X-PUBLISHED-TTL:P1H
REFRESH-INTERVAL:P1H
CALSCALE:GREGORIAN
BEGIN:VTIMEZONE
TZID:America/New_York
BEGIN:DAYLIGHT
RRULE:FREQ=YEARLY;BYMONTH=3;BYDAY=2SU
DTSTART:20070101T000000
TZOFFSETFROM:-0500
TZOFFSETTO:-0400
TZNAME:Eastern Daylight Time
END:DAYLIGHT
BEGIN:STANDARD
RRULE:FREQ=YEARLY;BYMONTH=11;BYDAY=1SU
DTSTART:20070101T000000
TZOFFSETFROM:-0400
TZOFFSETTO:-0500
TZNAME:Eastern Standard Time
END:STANDARD
END:VTIMEZONE
BEGIN:VEVENT
DTSTART;TZID=America/New_York:20260507T183000
DTEND;TZID=America/New_York:20260507T200000
X-MICROSOFT-CDO-ALLDAYEVENT:FALSE
SUMMARY:Comic Book Paper Flower Making
DESCRIPTION:Create a paper flower with comic book pages. PML cardholders register beginning April 23. Out of district residents may register beginning April 30\, if space allows. Register for one session only. Register Here!
X-ALT-DESC;FMTTYPE=text/html:<!DOCTYPE html><html><head><title></title></head><body aria-disabled="false" spellcheck="false"><p>Create a paper flower with comic book pages. PML cardholders register beginning April 23. Out of district residents may register beginning April 30\, if space allows. Register for one session only.&nbsp\;<a fr-original-style="" href="https://pmlib.libnet.info/event/16090219" style="user-select: auto\;">Register Here!</a></p></body></html>
LOCATION:54-60 East Main St. Patchogue NY 11772
UID:e.3854.1451457
SEQUENCE:3
DTSTAMP:20260426T012434Z
URL:https://business.patchogue.com/eventcalendar/Details/comic-book-paper-flower-making-1719179?sourceTypeId=Hub
END:VEVENT
END:VCALENDAR
