BEGIN:VCALENDAR
VERSION:2.0
PRODID:-//ChamberMaster//Event Calendar 2.0//EN
METHOD:PUBLISH
X-PUBLISHED-TTL:P1H
REFRESH-INTERVAL:P1H
CALSCALE:GREGORIAN
BEGIN:VTIMEZONE
TZID:America/New_York
BEGIN:DAYLIGHT
RRULE:FREQ=YEARLY;BYMONTH=3;BYDAY=2SU
DTSTART:20070101T000000
TZOFFSETFROM:-0500
TZOFFSETTO:-0400
TZNAME:Eastern Daylight Time
END:DAYLIGHT
BEGIN:STANDARD
RRULE:FREQ=YEARLY;BYMONTH=11;BYDAY=1SU
DTSTART:20070101T000000
TZOFFSETFROM:-0400
TZOFFSETTO:-0500
TZNAME:Eastern Standard Time
END:STANDARD
END:VTIMEZONE
BEGIN:VEVENT
DTSTART;TZID=America/New_York:20260516T110000
DTEND;TZID=America/New_York:20260516T140000
X-MICROSOFT-CDO-ALLDAYEVENT:FALSE
SUMMARY:Bideawee Pet Adoption Day
DESCRIPTION:Adopt a pet!
X-ALT-DESC;FMTTYPE=text/html:Adopt a pet!
LOCATION:54-60 East Main St. Patchogue NY 11772
UID:e.3854.1451474
SEQUENCE:3
DTSTAMP:20260426T012612Z
URL:https://business.patchogue.com/eventcalendar/Details/bideawee-pet-adoption-day-1719196?sourceTypeId=Hub
END:VEVENT
END:VCALENDAR
