BEGIN:VCALENDAR
VERSION:2.0
PRODID:-//ChamberMaster//Event Calendar 2.0//EN
METHOD:PUBLISH
X-PUBLISHED-TTL:P1H
REFRESH-INTERVAL:P1H
CALSCALE:GREGORIAN
BEGIN:VTIMEZONE
TZID:America/New_York
BEGIN:DAYLIGHT
RRULE:FREQ=YEARLY;BYMONTH=3;BYDAY=2SU
DTSTART:20070101T000000
TZOFFSETFROM:-0500
TZOFFSETTO:-0400
TZNAME:Eastern Daylight Time
END:DAYLIGHT
BEGIN:STANDARD
RRULE:FREQ=YEARLY;BYMONTH=11;BYDAY=1SU
DTSTART:20070101T000000
TZOFFSETFROM:-0400
TZOFFSETTO:-0500
TZNAME:Eastern Standard Time
END:STANDARD
END:VTIMEZONE
BEGIN:VEVENT
DTSTART;TZID=America/New_York:20260506T183000
DTEND;TZID=America/New_York:20260506T200000
X-MICROSOFT-CDO-ALLDAYEVENT:FALSE
SUMMARY:All About Social Media
DESCRIPTION:What's up with Instagram\, Facebook\, and X? In this lecture/demo you'll get an introduction to some of the popular social media sites\, learn how to create an account\, connect with family and friends\, and how to be safe and secure socializing online. Register Here!
X-ALT-DESC;FMTTYPE=text/html:<!DOCTYPE html><html><head><title></title></head><body aria-disabled="false" spellcheck="false"><p>What&rsquo\;s up with Instagram\, Facebook\, and X? In this lecture/demo you&rsquo\;ll get an introduction to some of the popular social media sites\, learn how to create an account\, connect with family and friends\, and how to be safe and secure socializing online.&nbsp\;<a fr-original-style="" href="https://pmlib.libnet.info/event/15382324" style="user-select: auto\;">Register Here!</a></p></body></html>
LOCATION:54-60 East Main St. Patchogue NY 11772
UID:e.3854.1451453
SEQUENCE:3
DTSTAMP:20260426T012735Z
URL:https://business.patchogue.com/eventcalendar/Details/all-about-social-media-1719175?sourceTypeId=Hub
END:VEVENT
END:VCALENDAR
